BEGIN:VCALENDAR
VERSION:2.0
PRODID:-//Chester Biscardi - ECPv6.15.20//NONSGML v1.0//EN
CALSCALE:GREGORIAN
METHOD:PUBLISH
X-WR-CALNAME:Chester Biscardi
X-ORIGINAL-URL:https://chesterbiscardi.com
X-WR-CALDESC:Events for Chester Biscardi
REFRESH-INTERVAL;VALUE=DURATION:PT1H
X-Robots-Tag:noindex
X-PUBLISHED-TTL:PT1H
BEGIN:VTIMEZONE
TZID:America/New_York
BEGIN:DAYLIGHT
TZOFFSETFROM:-0500
TZOFFSETTO:-0400
TZNAME:EDT
DTSTART:20250309T070000
END:DAYLIGHT
BEGIN:STANDARD
TZOFFSETFROM:-0400
TZOFFSETTO:-0500
TZNAME:EST
DTSTART:20251102T060000
END:STANDARD
BEGIN:DAYLIGHT
TZOFFSETFROM:-0500
TZOFFSETTO:-0400
TZNAME:EDT
DTSTART:20260308T070000
END:DAYLIGHT
BEGIN:STANDARD
TZOFFSETFROM:-0400
TZOFFSETTO:-0500
TZNAME:EST
DTSTART:20261101T060000
END:STANDARD
BEGIN:DAYLIGHT
TZOFFSETFROM:-0500
TZOFFSETTO:-0400
TZNAME:EDT
DTSTART:20270314T070000
END:DAYLIGHT
BEGIN:STANDARD
TZOFFSETFROM:-0400
TZOFFSETTO:-0500
TZNAME:EST
DTSTART:20271107T060000
END:STANDARD
END:VTIMEZONE
BEGIN:VTIMEZONE
TZID:UTC
BEGIN:STANDARD
TZOFFSETFROM:+0000
TZOFFSETTO:+0000
TZNAME:UTC
DTSTART:20250101T000000
END:STANDARD
END:VTIMEZONE
BEGIN:VEVENT
DTSTART;TZID=America/New_York:20260613T190000
DTEND;TZID=America/New_York:20260613T213000
DTSTAMP:20260424T192121
CREATED:20251105T060615Z
LAST-MODIFIED:20260421T085549Z
UID:987510607-1781377200-1781386200@chesterbiscardi.com
SUMMARY:Madrigal @ Tenri Cultural Center
DESCRIPTION:
URL:https://chesterbiscardi.com/event/madrigal-tenri-cultural/
LOCATION:Tenri Cultural Institute\, 43 West 13th Street\, New York\, 10011\, United States
ATTACH;FMTTYPE=image/png:https://chesterbiscardi.com/wp-content/uploads/2025/11/KeyedUp.png
END:VEVENT
BEGIN:VEVENT
DTSTART;TZID=UTC:20260823T160000
DTEND;TZID=UTC:20260823T180000
DTSTAMP:20260424T192121
CREATED:20251104T030707Z
LAST-MODIFIED:20260421T085934Z
UID:987510510-1787500800-1787508000@chesterbiscardi.com
SUMMARY:Piano Quintet @ Maverick Chamber Music Festival (Maverick Concerts)
DESCRIPTION:Maverick Concerts presents Chet Biscardi’s Piano Quintet (2004)\, as part of the Summer 2026 Maverick Chamber Music Festival\, with Reed Tetzloff\, pianist\, and the American Chamber Music Society in a program including: \n\nRobert Schumann: String Quartet No. 1 in A minor\, Op. 40\, No. 1 (1842)\nFelix Mendelssohn: String Quartet No. 6 in F minor\, Op. 80 (1847)\nChester Biscardi: Piano Quintet (2004)\nArthur Foote: Piano Quintet in A minor\, Op. 38 (1897)\n\nBuy Tickets
URL:https://chesterbiscardi.com/event/piano-quintet-maverick-chamber-music-festival-maverick-concerts/
LOCATION:Maverick Concert Hall\, 120 Maverick Road\, Woodstock\, NY\, 12498\, United States
ATTACH;FMTTYPE=image/webp:https://chesterbiscardi.com/wp-content/uploads/2025/11/MaverickConcerts.webp
ORGANIZER;CN="Maverick Concerts":MAILTO:info@maverickconcerts.org
END:VEVENT
END:VCALENDAR