BEGIN:VCALENDAR
VERSION:2.0
PRODID:-//Chester Biscardi - ECPv6.15.20//NONSGML v1.0//EN
CALSCALE:GREGORIAN
METHOD:PUBLISH
X-WR-CALNAME:Chester Biscardi
X-ORIGINAL-URL:https://chesterbiscardi.com
X-WR-CALDESC:Events for Chester Biscardi
REFRESH-INTERVAL;VALUE=DURATION:PT1H
X-Robots-Tag:noindex
X-PUBLISHED-TTL:PT1H
BEGIN:VTIMEZONE
TZID:America/New_York
BEGIN:DAYLIGHT
TZOFFSETFROM:-0500
TZOFFSETTO:-0400
TZNAME:EDT
DTSTART:20170312T070000
END:DAYLIGHT
BEGIN:STANDARD
TZOFFSETFROM:-0400
TZOFFSETTO:-0500
TZNAME:EST
DTSTART:20171105T060000
END:STANDARD
BEGIN:DAYLIGHT
TZOFFSETFROM:-0500
TZOFFSETTO:-0400
TZNAME:EDT
DTSTART:20180311T070000
END:DAYLIGHT
BEGIN:STANDARD
TZOFFSETFROM:-0400
TZOFFSETTO:-0500
TZNAME:EST
DTSTART:20181104T060000
END:STANDARD
BEGIN:DAYLIGHT
TZOFFSETFROM:-0500
TZOFFSETTO:-0400
TZNAME:EDT
DTSTART:20190310T070000
END:DAYLIGHT
BEGIN:STANDARD
TZOFFSETFROM:-0400
TZOFFSETTO:-0500
TZNAME:EST
DTSTART:20191103T060000
END:STANDARD
END:VTIMEZONE
BEGIN:VEVENT
DTSTART;TZID=America/New_York:20181006T200000
DTEND;TZID=America/New_York:20181006T213000
DTSTAMP:20260424T200422
CREATED:20180813T145802Z
LAST-MODIFIED:20180813T145802Z
UID:3657-1538856000-1538861400@chesterbiscardi.com
SUMMARY:At Any Given Moment @ National Opera Center
DESCRIPTION:“At Any Given Moment” from Modern Love Songs (2002) \nMarc A. Scorca Hall\nNational Opera Center\n330 7th Avenue\, 7th Floor\, New York\, NY 10001\nSaturday\, October 6\, 2018\n8:00pm \nNewMusicShelf and Black Tea Music present an evening of new art song for tenor and piano. \nTenor Dennis Tobenski and pianist Trudy Chan perform the 20 songs collected in the NewMusicShelf Anthology of New Music: Tenor\, Vol. 1. \nFeaturing art songs by: Paul Ayres\, Chester Biscardi\, Clint Borzoni\, Steven Burke\, Daniel Gilliam\, Juliana Hall\, Drew Hemenger\, Garrett Hope\, Rory Johnston\, David Leisner\, Lisa Neher\, Frank J. Oteri\, Gabrielle Owens\, Darien Shulman\, Dennis Tobenski\, Craig Urquhart\, Philip Wharton\, Scott Wheeler\, David Wolfson\, and Roger Zahab. \nTickets
URL:https://chesterbiscardi.com/event/at-any-given-moment-national-opera-center/
END:VEVENT
END:VCALENDAR