BEGIN:VCALENDAR
VERSION:2.0
PRODID:-//Chester Biscardi, composer - ECPv5.6.0//NONSGML v1.0//EN
CALSCALE:GREGORIAN
METHOD:PUBLISH
X-WR-CALNAME:Chester Biscardi, composer
X-ORIGINAL-URL:https://chesterbiscardi.com
X-WR-CALDESC:Events for Chester Biscardi, composer
BEGIN:VTIMEZONE
TZID:America/New_York
BEGIN:DAYLIGHT
TZOFFSETFROM:-0500
TZOFFSETTO:-0400
TZNAME:EDT
DTSTART:20100314T070000
END:DAYLIGHT
BEGIN:STANDARD
TZOFFSETFROM:-0400
TZOFFSETTO:-0500
TZNAME:EST
DTSTART:20101107T060000
END:STANDARD
END:VTIMEZONE
BEGIN:VEVENT
DTSTART;VALUE=DATE:20100526
DTEND;VALUE=DATE:20100527
DTSTAMP:20210612T085241
CREATED:20180116T221914Z
LAST-MODIFIED:20180116T221914Z
UID:3462-1274832000-1274918399@chesterbiscardi.com
SUMMARY:All-Biscardi Concert @ Beijing Central Conservatory of Music
DESCRIPTION:Column:  Special Concert of Chester Biscardi’s Works\n		14:00 – 15:00\n		Pre-concert talk by Chester Biscardi\n	\nTartini\n\, for violin and piano (1972)\n		Lin Zhaoyang\, violin\, and You Xi\, piano\n	\nResisting Stillness\n\, for two guitars (1996)\n		Chen Chuan and Xu Tuo\, guitars\n	\nThe Viola Had Suddenly Become a Voice\n\, for viola and piano (2005)\n		Kang Wenting\, viola\, and Duan Biyan\, piano\n	\nPiano Quintet\n\, for piano and violin\, with violin\, viola and violoncello (2004)\n		Duan Biyan\, piano\, Tang Yun\, violin\, Ma Veijia\, violin\,	Kang Wenting\, viola\, and Wang Zhilin\, violoncello\n		Recital Hall\, Beijing Central Conservatory of Music \n		Beijing Central Conservatory of Music\n		Tickets:\nhttp://concerthall.ccom.edu.cn/\n \n		General information:\n	\nhttp://www.bmmf.org.cn/index.html
URL:https://chesterbiscardi.com/event/biscardi-concert-beijing-central-conservatory-music/
LOCATION:Recital Hall\, Beijing Conservatory of Music\, Beijing\, China
END:VEVENT
END:VCALENDAR