BEGIN:VCALENDAR
VERSION:2.0
PRODID:-//Chester Biscardi, composer - ECPv5.6.0//NONSGML v1.0//EN
CALSCALE:GREGORIAN
METHOD:PUBLISH
X-WR-CALNAME:Chester Biscardi, composer
X-ORIGINAL-URL:https://chesterbiscardi.com
X-WR-CALDESC:Events for Chester Biscardi, composer
BEGIN:VTIMEZONE
TZID:America/New_York
BEGIN:DAYLIGHT
TZOFFSETFROM:-0500
TZOFFSETTO:-0400
TZNAME:EDT
DTSTART:20100314T070000
END:DAYLIGHT
BEGIN:STANDARD
TZOFFSETFROM:-0400
TZOFFSETTO:-0500
TZNAME:EST
DTSTART:20101107T060000
END:STANDARD
END:VTIMEZONE
BEGIN:VEVENT
DTSTART;VALUE=DATE:20100525
DTEND;VALUE=DATE:20100526
DTSTAMP:20210612T085354
CREATED:20180116T221940Z
LAST-MODIFIED:20180116T221940Z
UID:3463-1274745600-1274831999@chesterbiscardi.com
SUMMARY:Master Class @Beijing Central Conservatory of Music
DESCRIPTION:Master Class: "In Time's Unfolding: Influence and Resonance"\n10:30 – 12:00\nBeijing Central Conservatory of Music
URL:https://chesterbiscardi.com/event/master-class-beijing-central-conservatory-music/
LOCATION:Recital Hall\, Beijing Conservatory of Music\, Beijing\, China
END:VEVENT
END:VCALENDAR