BEGIN:VCALENDAR
VERSION:2.0
PRODID:-//Chester Biscardi - ECPv6.15.20//NONSGML v1.0//EN
CALSCALE:GREGORIAN
METHOD:PUBLISH
X-WR-CALNAME:Chester Biscardi
X-ORIGINAL-URL:https://chesterbiscardi.com
X-WR-CALDESC:Events for Chester Biscardi
REFRESH-INTERVAL;VALUE=DURATION:PT1H
X-Robots-Tag:noindex
X-PUBLISHED-TTL:PT1H
BEGIN:VTIMEZONE
TZID:America/New_York
BEGIN:DAYLIGHT
TZOFFSETFROM:-0500
TZOFFSETTO:-0400
TZNAME:EDT
DTSTART:20170312T070000
END:DAYLIGHT
BEGIN:STANDARD
TZOFFSETFROM:-0400
TZOFFSETTO:-0500
TZNAME:EST
DTSTART:20171105T060000
END:STANDARD
BEGIN:DAYLIGHT
TZOFFSETFROM:-0500
TZOFFSETTO:-0400
TZNAME:EDT
DTSTART:20180311T070000
END:DAYLIGHT
BEGIN:STANDARD
TZOFFSETFROM:-0400
TZOFFSETTO:-0500
TZNAME:EST
DTSTART:20181104T060000
END:STANDARD
BEGIN:DAYLIGHT
TZOFFSETFROM:-0500
TZOFFSETTO:-0400
TZNAME:EDT
DTSTART:20190310T070000
END:DAYLIGHT
BEGIN:STANDARD
TZOFFSETFROM:-0400
TZOFFSETTO:-0500
TZNAME:EST
DTSTART:20191103T060000
END:STANDARD
END:VTIMEZONE
BEGIN:VEVENT
DTSTART;TZID=America/New_York:20181002T133000
DTEND;TZID=America/New_York:20181002T150000
DTSTAMP:20260424T200307
CREATED:20180729T160145Z
LAST-MODIFIED:20180729T160145Z
UID:3592-1538487000-1538492400@chesterbiscardi.com
SUMMARY:Music & Image @ Sarah Lawrence College
DESCRIPTION:Music & Image  \nFeldman Sings (2017)\, a 4-minute film by Zahra Partovi & Chris Villars \nMorton Feldman sings fragments from his opera\, Neither\, based on a text by Samuel Beckett. \nExtensions 3 (1952)  Morton Feldman (1926-1987) \nCompanion Piece (for Morton Feldman) (1989/1991)   Chester Biscardi (1948) \nChester Biscardi\, piano \nSofty – A GIANT STEP (2017)\, a 30-minute film by Zahra Partovi \nPresentation by Zahra Partovi followed by a Q & A after the screening. \nTuesday\, October 2\, 2018\n1:30 PM \nReisinger Concert Hall\nSarah Lawrence College\nBronxville\, New York
URL:https://chesterbiscardi.com/event/music-image-sarah-lawrence-college/
END:VEVENT
END:VCALENDAR