BEGIN:VCALENDAR
VERSION:2.0
PRODID:-//Chester Biscardi - ECPv6.15.20//NONSGML v1.0//EN
CALSCALE:GREGORIAN
METHOD:PUBLISH
X-WR-CALNAME:Chester Biscardi
X-ORIGINAL-URL:https://chesterbiscardi.com
X-WR-CALDESC:Events for Chester Biscardi
REFRESH-INTERVAL;VALUE=DURATION:PT1H
X-Robots-Tag:noindex
X-PUBLISHED-TTL:PT1H
BEGIN:VTIMEZONE
TZID:America/New_York
BEGIN:DAYLIGHT
TZOFFSETFROM:-0500
TZOFFSETTO:-0400
TZNAME:EDT
DTSTART:20170312T070000
END:DAYLIGHT
BEGIN:STANDARD
TZOFFSETFROM:-0400
TZOFFSETTO:-0500
TZNAME:EST
DTSTART:20171105T060000
END:STANDARD
BEGIN:DAYLIGHT
TZOFFSETFROM:-0500
TZOFFSETTO:-0400
TZNAME:EDT
DTSTART:20180311T070000
END:DAYLIGHT
BEGIN:STANDARD
TZOFFSETFROM:-0400
TZOFFSETTO:-0500
TZNAME:EST
DTSTART:20181104T060000
END:STANDARD
BEGIN:DAYLIGHT
TZOFFSETFROM:-0500
TZOFFSETTO:-0400
TZNAME:EDT
DTSTART:20190310T070000
END:DAYLIGHT
BEGIN:STANDARD
TZOFFSETFROM:-0400
TZOFFSETTO:-0500
TZNAME:EST
DTSTART:20191103T060000
END:STANDARD
END:VTIMEZONE
BEGIN:VEVENT
DTSTART;TZID=America/New_York:20180811T193000
DTEND;TZID=America/New_York:20180811T210000
DTSTAMP:20260424T200040
CREATED:20180311T155319Z
LAST-MODIFIED:20180311T155319Z
UID:3498-1534015800-1534021200@chesterbiscardi.com
SUMMARY:Music for Witch Dance @ Staunton Music Festival
DESCRIPTION:Music for Witch Dance (1983) \nI-Jen Fang and Brian Smith\, percussionists \nA Little Night Music \nProgram includes Mozart’s Serenade in G Major from “Eine kleine Nachtmusik\,” Sondheim’s “Send in the Clowns”\, Schoenberg’s Pierrot Lunaire\, with pantomime by Happenstance Theater\, Biscardi’s Witch Dance\, and Britten’s Nocturne\, for tenor with chamber orchestra. \nSaturday\, August 11\, 2018\n7:30 PM\nDoors open at 6:30 PM – Preconcert talk at 6:40 PM \nTrinity Episcopal Church\nStaunton\, Virginia \nFor tickets\, click here.
URL:https://chesterbiscardi.com/event/music-witch-dance-staunton-music-festival/
END:VEVENT
END:VCALENDAR