BEGIN:VCALENDAR
VERSION:2.0
PRODID:-//Chester Biscardi - ECPv6.15.20//NONSGML v1.0//EN
CALSCALE:GREGORIAN
METHOD:PUBLISH
X-WR-CALNAME:Chester Biscardi
X-ORIGINAL-URL:https://chesterbiscardi.com
X-WR-CALDESC:Events for Chester Biscardi
REFRESH-INTERVAL;VALUE=DURATION:PT1H
X-Robots-Tag:noindex
X-PUBLISHED-TTL:PT1H
BEGIN:VTIMEZONE
TZID:America/New_York
BEGIN:DAYLIGHT
TZOFFSETFROM:-0500
TZOFFSETTO:-0400
TZNAME:EDT
DTSTART:20130310T070000
END:DAYLIGHT
BEGIN:STANDARD
TZOFFSETFROM:-0400
TZOFFSETTO:-0500
TZNAME:EST
DTSTART:20131103T060000
END:STANDARD
BEGIN:DAYLIGHT
TZOFFSETFROM:-0500
TZOFFSETTO:-0400
TZNAME:EDT
DTSTART:20140309T070000
END:DAYLIGHT
BEGIN:STANDARD
TZOFFSETFROM:-0400
TZOFFSETTO:-0500
TZNAME:EST
DTSTART:20141102T060000
END:STANDARD
BEGIN:DAYLIGHT
TZOFFSETFROM:-0500
TZOFFSETTO:-0400
TZNAME:EDT
DTSTART:20150308T070000
END:DAYLIGHT
BEGIN:STANDARD
TZOFFSETFROM:-0400
TZOFFSETTO:-0500
TZNAME:EST
DTSTART:20151101T060000
END:STANDARD
END:VTIMEZONE
BEGIN:VEVENT
DTSTART;VALUE=DATE:20140602
DTEND;VALUE=DATE:20140616
DTSTAMP:20260424T215648
CREATED:20180116T163507Z
LAST-MODIFIED:20180116T163507Z
UID:3421-1401667200-1402876799@chesterbiscardi.com
SUMMARY:New Music On The Point Festival
DESCRIPTION:New Music On The Point Festival\nhttp://newmusiconthepoint.com \nResident Faculty Composer \nSeminars\, Master Classes\, and Composition Lessons \nThe New Music On The Point Festival: imaginative collaboration among composers\, instrumentalists\, and singers creating contemporary music on the shores of Lake Dunmore in Vermont.  The 2014 festival includes composers Kathryn Alexander\, Chester Biscardi\, Robert Paterson and Yehudi Wyner along with the JACK Quartet and the American Modern Ensemble. \nComposition Lessons\, June 2 — 15\, 2014 \nSeminar Series — Chester Biscardi:  Works\, June 6\, 2014 \nComposition Masterclass — Composing for Voice\, with Chester Biscardi\, J. J. Penna\, Robert Paterson\, and Yehudi Wyner\, June 7\, 2014 \nComposition Masterclass — Student Work\, co-presented by Chester Biscardi and Missy Mazzoli\, June 9\, 2014 \nComposition Masterclass — Student Work\, co-presented by Chester Biscardi and Kathryn Alexander\, June 13\, 2014 \n"Guru" (1995)\n"I Wouldn’t Know About That\," from Modern Love Songs (1997-2002)\n"I Dance the Tango\," from Sailors & Dreamers (2007-2010) \n\n	Jennifer Beattie\, mezzosoprano\n	Adam Marks\, piano\n	The Beattie-Marks Duo \n	Opening Concert #1\n	June 2\, 2014\n	Rec Hall\n	New Music On the Point\n	Lake Dunmore\n	Leicester\, Vermont \n	Works by Kathryn Alexander\, Samuel Barber\, Lembit Beecher\, Chester 	Biscardi\, Tom Cipullo\, Aaron Copland\, Michael Djupstrom\, Robert Paterson\, 	Steve Reich and Yehudi Wyner.\n \nPiano Sonata (1986; rev. 1987) \n\n	Clare Longendyke\, piano \n	Salon Concert #1\n	June 5\, 2014\n	Rec Hall\n	New Music On the Point\n	Lake Dunmore\n	Leicester\, Vermont\n \nIncitation to Desire (Tango) (1984) \n\n	Neil Qiang (Qiang Nanyi)\, piano \n	Salon Concert #2\n	June 6\, 2014\n	Rec Hall\n	New Music On the Point\n	Lake Dunmore\n	Leicester\, Vermont\n	 \nThe Child Comes Every Winter (1999) \n\n	Alexandra Porter\, soprano\, and Neil Qiang (Qiang Nanyi)\, piano\n \nBaby Song of the Four Winds (1994) \n\n	Jilian McGreen\, mezzosoprano\, and Neil Qiang (Qiang Nanyi)\, piano\n	Salon Concert #3\n	June 7\, 2014\n	Rec Hall\n	New Music On the Point\n	Lake Dunmore\n	Leicester\, Vermont\n \nModern Love Songs (1997-2002) \n\n	Peter Brown\, baritone\, and Neil Qiang\, piano\n \nThe Gift of Life (1990-1993) \n\n	Elaina Robbins\, soprano\, and Richard Valitutto\, piano \n	Salon Concert #4\n	June 10\, 2014\n	Rec Hall\n	New Music On the Point\n	Lake Dunmore\n	Leicester\, Vermont\n \nTartini (1972) \n\n	The Green Mountain Duo:\nAdrianne Pope\, violin\, and Clare Longendyke\, piano \n	Salon Concert #5\n	June 11\, 2014\n	Rec Hall\n	New Music On the Point\n	Lake Dunmore\n	Leicester\, Vermont\n \nExtensions 3 (1952)\, by Morton Feldman \n\n	Richard Valitutto\, piano\n \nCompanion Piece (for Morton Feldman) (1989) \n\n	James Sullivan\, double bass & Richard Valitutto\, piano\n \nThe Viola Had Suddenly Found a Voice (2005)  \n\n	Kelly Ralston\, viola\, and Neil Qiang\, piano \n	Salon Concert #6\n	June 12\, 2014\n	Rec Hall\n	New Music On the Point\n	Lake Dunmore\n	Leicester\, Vermont\n \nFootfalls (after Beckett) (2012) \n\n	Jenny Davis\, flute\n	Zach Pulse\, oboe\n	Alexandra Matloff\, violin\n	Gregorgiy Khoklov\, cello\n	Clare Longendyke\, piano \n	Final Concert I\n	June 13\, 2014\n	New Music On the Point\n	Middlebury Town Hall Theater\n	Middlebury\, Vermont\n \nPiano Quintet (2004) \n\n	Adrianne Pope\, violin\n	Leach Kettelkamp\, violin\n	Frakhad Abdirakirov\, viola\n	Zan Berry\, cello\n	Clare Longendyke\, piano	 \n	Final Concert II\n	June 14\, 2014\n	New Music On the Point\n	Middlebury Town Hall Theater\n	Middlebury\, Vermont
URL:https://chesterbiscardi.com/event/new-music-point-festival/
END:VEVENT
END:VCALENDAR