BEGIN:VCALENDAR
VERSION:2.0
PRODID:-//Chester Biscardi, composer - ECPv5.6.0//NONSGML v1.0//EN
CALSCALE:GREGORIAN
METHOD:PUBLISH
X-WR-CALNAME:Chester Biscardi, composer
X-ORIGINAL-URL:https://chesterbiscardi.com
X-WR-CALDESC:Events for Chester Biscardi, composer
BEGIN:VTIMEZONE
TZID:America/New_York
BEGIN:DAYLIGHT
TZOFFSETFROM:-0500
TZOFFSETTO:-0400
TZNAME:EDT
DTSTART:20190310T070000
END:DAYLIGHT
BEGIN:STANDARD
TZOFFSETFROM:-0400
TZOFFSETTO:-0500
TZNAME:EST
DTSTART:20191103T060000
END:STANDARD
END:VTIMEZONE
BEGIN:VEVENT
DTSTART;TZID=America/New_York:20190202T200000
DTEND;TZID=America/New_York:20190202T213000
DTSTAMP:20210520T215841
CREATED:20190113T195223Z
LAST-MODIFIED:20190113T195223Z
UID:3720-1549137600-1549143000@chesterbiscardi.com
SUMMARY:NewMusicShelf Anthology Launch Concert
DESCRIPTION: \nNewMusicShelf and Black Tea Music present an evening of new art song for tenor and piano. \nTenor Dennis Tobenski and pianist Trudy Chan perform the 20 songs collected in the NewMusicShelf Anthology of New Music: Tenor\, Vol. 1\, including “At Any Given Moment” from Modern Love Songs. \nFeaturing art songs by: Paul Ayres\, Chester Biscardi\, Clint Borzoni\, Steven Burke\, Daniel Gilliam\, Juliana Hall\, Drew Hemenger\, Garrett Hope\, Rory Johnston\, David Leisner\, Lisa Neher\, Frank J. Oteri\, Gabrielle Owens\, Darien Shulman\, Dennis Tobenski\, Craig Urquhart\, Philip Wharton\, Scott Wheeler\, David Wolfson\, and Roger Zahab. \nThe NewMusicShelf Anthologies of New Music are a bold\, new publishing initiative aimed at bringing new and unknown composers and repertoire to student and professional performers alike. With an emphasis on works not found in the traditional publishing ecosystem\, each volume is curated by performers who have a reputation for championing new music\, with an eye toward selecting works with a range of styles and difficulties that are suitable for concert and recital performance. \nWith this innovative mode of publishing\, NewMusicShelf advocates for self-published composers in a way previously unheard of in the realm of classical music: all self-published composers retain full ownership of their work while earning a generous royalty on every sale. Your support of this project directly benefits these composers\, and also helps NewMusicShelf to continue to promote the works of the many excellent composers writing today. \nTickets available here »
URL:https://chesterbiscardi.com/event/newmusicshelf-anthology-launch-concert/
LOCATION:Marc A. Scorca Hall\, National Opera Center\, 330 7th Ave.\, New York\, NY\, 10001\, United States
END:VEVENT
END:VCALENDAR