BEGIN:VCALENDAR
VERSION:2.0
PRODID:-//Chester Biscardi - ECPv6.15.20//NONSGML v1.0//EN
CALSCALE:GREGORIAN
METHOD:PUBLISH
X-WR-CALNAME:Chester Biscardi
X-ORIGINAL-URL:https://chesterbiscardi.com
X-WR-CALDESC:Events for Chester Biscardi
REFRESH-INTERVAL;VALUE=DURATION:PT1H
X-Robots-Tag:noindex
X-PUBLISHED-TTL:PT1H
BEGIN:VTIMEZONE
TZID:America/New_York
BEGIN:DAYLIGHT
TZOFFSETFROM:-0500
TZOFFSETTO:-0400
TZNAME:EDT
DTSTART:20080309T070000
END:DAYLIGHT
BEGIN:STANDARD
TZOFFSETFROM:-0400
TZOFFSETTO:-0500
TZNAME:EST
DTSTART:20081102T060000
END:STANDARD
BEGIN:DAYLIGHT
TZOFFSETFROM:-0500
TZOFFSETTO:-0400
TZNAME:EDT
DTSTART:20090308T070000
END:DAYLIGHT
BEGIN:STANDARD
TZOFFSETFROM:-0400
TZOFFSETTO:-0500
TZNAME:EST
DTSTART:20091101T060000
END:STANDARD
BEGIN:DAYLIGHT
TZOFFSETFROM:-0500
TZOFFSETTO:-0400
TZNAME:EDT
DTSTART:20100314T070000
END:DAYLIGHT
BEGIN:STANDARD
TZOFFSETFROM:-0400
TZOFFSETTO:-0500
TZNAME:EST
DTSTART:20101107T060000
END:STANDARD
END:VTIMEZONE
BEGIN:VEVENT
DTSTART;VALUE=DATE:20090519
DTEND;VALUE=DATE:20090520
DTSTAMP:20260424T221826
CREATED:20180116T174027Z
LAST-MODIFIED:20180116T174027Z
UID:3475-1242691200-1242777599@chesterbiscardi.com
SUMMARY:Piano Sonata @ Greenwich House Music School
DESCRIPTION:Piano Sonata\n (1986; rev. 1987) \n		Keys to the Future Festival; Joe Rubenstein\, director; Blair McMillen\, piano \n		Tuesday\, May 19\, 2009\n		8:00 PM \n		Renee Weiler Concert Hall\n		Greenwich House Music School\n		46 Barrow Street (slightly South of Sheridan Square\n		and West of Seventh Ave)\n		New York City \n		General Admission: $15 per concert\n		Seniors/Students: $10 per concert\n		For reservations call 212.242.4770\n	\nSequenza21 | Chamber Music Today
URL:https://chesterbiscardi.com/event/piano-sonata-greenwich-house-music-school/
END:VEVENT
END:VCALENDAR