BEGIN:VCALENDAR
VERSION:2.0
PRODID:-//Chester Biscardi, composer - ECPv5.6.0//NONSGML v1.0//EN
CALSCALE:GREGORIAN
METHOD:PUBLISH
X-WR-CALNAME:Chester Biscardi, composer
X-ORIGINAL-URL:https://chesterbiscardi.com
X-WR-CALDESC:Events for Chester Biscardi, composer
BEGIN:VTIMEZONE
TZID:America/New_York
BEGIN:DAYLIGHT
TZOFFSETFROM:-0500
TZOFFSETTO:-0400
TZNAME:EDT
DTSTART:20190310T070000
END:DAYLIGHT
BEGIN:STANDARD
TZOFFSETFROM:-0400
TZOFFSETTO:-0500
TZNAME:EST
DTSTART:20191103T060000
END:STANDARD
END:VTIMEZONE
BEGIN:VEVENT
DTSTART;TZID=America/New_York:20190301T190000
DTEND;TZID=America/New_York:20190301T210000
DTSTAMP:20210520T220016
CREATED:20190224T202410Z
LAST-MODIFIED:20190224T202410Z
UID:3734-1551466800-1551474000@chesterbiscardi.com
SUMMARY:Songs @ Roanoke Valley Music Teachers Association
DESCRIPTION:Judith Bettina\, soprano\, and James Goldsworthy\, piano \n“Baby Song of the Four Winds” (1994)\, “Guru” (1995) and “What a Coincidence” (1997) \nCONTRASTS  in  SOUND\nIncluding songs by Milton Babbitt\, Chester Biscardi\, Brahms\, Robert Helps\, Frederic Mompou\, Tobias Picker\, David Rakowski\, Maurice Ravel and Kurt Weill. \nFriday\, March 1\, 2019\, 7:00 P.M. \nRoanoke Valley Music Teachers Association\nNew Life Presbyterian Church\nSalem\, Virginia
URL:https://chesterbiscardi.com/event/songs-roanoke-valley-music-teachers-association/
LOCATION:New Life Presbyterian Church\, 101 Keesling Ave\, Salem\, VA\, 24153\, United States
END:VEVENT
END:VCALENDAR