BEGIN:VCALENDAR
VERSION:2.0
PRODID:-//Chester Biscardi, composer - ECPv5.6.0//NONSGML v1.0//EN
CALSCALE:GREGORIAN
METHOD:PUBLISH
X-WR-CALNAME:Chester Biscardi, composer
X-ORIGINAL-URL:https://chesterbiscardi.com
X-WR-CALDESC:Events for Chester Biscardi, composer
BEGIN:VTIMEZONE
TZID:America/New_York
BEGIN:DAYLIGHT
TZOFFSETFROM:-0500
TZOFFSETTO:-0400
TZNAME:EDT
DTSTART:20100314T070000
END:DAYLIGHT
BEGIN:STANDARD
TZOFFSETFROM:-0400
TZOFFSETTO:-0500
TZNAME:EST
DTSTART:20101107T060000
END:STANDARD
END:VTIMEZONE
BEGIN:VEVENT
DTSTART;VALUE=DATE:20100526
DTEND;VALUE=DATE:20100527
DTSTAMP:20210612T085318
CREATED:20180116T221834Z
LAST-MODIFIED:20180116T221834Z
UID:3461-1274832000-1274918399@chesterbiscardi.com
SUMMARY:Traverso @ Beijing Central Conservatory of Music
DESCRIPTION:Traverso\n\, for flute and piano (1987)\n		13:00 – 14:00\n		The Centre of the Sound:  Flute and Piano Music from Luisa Sello\n		Luisa Sello\, flute\, and Yang Xiaogong\, piano\n		Program:  Olivier Messiaen’s\nLe merle noir\n\, Luciano Berio’s\nSequenza\n (1958)\, Chen Musheng’s\nOde of Luan\n (2010)\, Aflredo Casella’s\nBarcarola e scherzo\n\, Chester Biscardi’s\nTraverso\n (1987)\, Jia Guoping’s\nGun Yun (Song of Ancient)\n (2009)\, and Darius Milhaud’s\nSonatine\n.\n		Recital Hall\, Beijing Central Conservatory of Music
URL:https://chesterbiscardi.com/event/traverso-beijing-central-conservatory-music/
LOCATION:Recital Hall\, Beijing Conservatory of Music\, Beijing\, China
END:VEVENT
END:VCALENDAR