BEGIN:VCALENDAR
VERSION:2.0
PRODID:-//Chester Biscardi, composer - ECPv5.6.0//NONSGML v1.0//EN
CALSCALE:GREGORIAN
METHOD:PUBLISH
X-WR-CALNAME:Chester Biscardi, composer
X-ORIGINAL-URL:https://chesterbiscardi.com
X-WR-CALDESC:Events for Chester Biscardi, composer
BEGIN:VTIMEZONE
TZID:America/New_York
BEGIN:DAYLIGHT
TZOFFSETFROM:-0500
TZOFFSETTO:-0400
TZNAME:EDT
DTSTART:20100314T070000
END:DAYLIGHT
BEGIN:STANDARD
TZOFFSETFROM:-0400
TZOFFSETTO:-0500
TZNAME:EST
DTSTART:20101107T060000
END:STANDARD
END:VTIMEZONE
BEGIN:VEVENT
DTSTART;VALUE=DATE:20100821
DTEND;VALUE=DATE:20100822
DTSTAMP:20210612T085114
CREATED:20180116T221653Z
LAST-MODIFIED:20180116T221653Z
UID:3460-1282348800-1282435199@chesterbiscardi.com
SUMMARY:Traverso @ Staunton Music Festival
DESCRIPTION:Traverso\n (1987) \n		Gala Concert – Staunton Music Festival\n		Mary Boodell\, flute\, and Gabriel Dobner\, piano \n		Saturday\, August 21\, 2010\n		7:00 PM \n		President’s House at Mary Baldwin College on Kable Street\n		Staunton\, Virginia \nThe Gala Dinner and Concert returns again to the President’s House atop Cannon Hill on the Mary Baldwin College campus.  Enjoy a first-class meal\, drinks\, dessert\, and good conversation at this intimate event.  And take in the panoramic view of downtown Staunton and the distant mountains from the patios.  Musical selections include Brahms’ single-movement Sonatensatz for violin and piano\, the lush setting of On Wenlock Edge for tenor and chamber ensemble by Vaughan Williams\, plus works by Poulenc and Chester Biscardi.\n \n		All tickets $75; seating is limited\n	\nhttp://www.brownpapertickets.com/producerevent/98707?prod_id=12346\n \nhttp://www.stauntonmusicfestival.com/
URL:https://chesterbiscardi.com/event/traverso-staunton-music-festival-2/
LOCATION:Mary Baldwin College\, Staunton\, VA\, United States
END:VEVENT
END:VCALENDAR